BEGIN:VCALENDAR
VERSION:2.0
METHOD:PUBLISH
PRODID:-//Virginia Tech//VT Calendar//EN
BEGIN:VEVENT
DTSTAMP:20131101T164000Z
UID:1382033283472@events.msu.edu
CATEGORIES:Conferences / Seminars / Lectures
DTSTART:20131101T164000Z
DTEND:20131102T035900Z
SUMMARY:The electrochemical evaluation of copper-binding mediated anti-oxidant properties of prion proteins
DESCRIPTION:
 Analytical Seminar\n
 Chris John, Michigan State 
 University\n\n
 Price: free\n
 Sponsor: Chemistry\n
 Sponsor's Homepage: http://www.chemistry.msu.edu/\n
 Contact name: Brenda Franklin\n
 Contact phone: (517) 355-9715\n
 Contact email: frankl78@msu.edu\n
LOCATION:136 Chemistry Building
END:VEVENT
END:VCALENDAR
