BEGIN:VCALENDAR
VERSION:2.0
METHOD:PUBLISH
PRODID:-//Virginia Tech//VT Calendar//EN
BEGIN:VEVENT
DTSTAMP:20140326T170000Z
UID:1382107338758@events.msu.edu
CATEGORIES:Conferences / Seminars / Lectures
DTSTART:20140326T170000Z
DTEND:20140326T180000Z
SUMMARY:CANCELED Low Health Literacy: Blame to go Around
DESCRIPTION:
 Join us for Dr. Arthur Ward's lecture on Wednesday, 
 March 26, 2014 from noon till 1 pm in person 
 or online. The lecture will take place 
 in East Fee Hall in Room C102 (the Patenge Room), 
 and can be accessed live at connect.msu.edu/brownbag.\n
 \n
 Arthur 
 Ward, PhD, is an Instructor 
 in the Lyman Briggs College at Michigan 
 State University.\n\n
 Price: free\n
 Sponsor: Center for Ethics and Humanities in the Life Sciences\n
 Sponsor's Homepage: http://www.bioethics.msu.edu/\n
 Contact name: Libby Bogdan-Lovis\n
 Contact email: bogdanlo@msu.edu\n
LOCATION:C102 East Fee Hall or at bioethics.msu.edu
END:VEVENT
END:VCALENDAR
