BEGIN:VCALENDAR
VERSION:2.0
METHOD:PUBLISH
PRODID:-//Virginia Tech//VT Calendar//EN
BEGIN:VEVENT
DTSTAMP:20140423T160000Z
UID:1382107891199@events.msu.edu
CATEGORIES:Conferences / Seminars / Lectures
DTSTART:20140423T160000Z
DTEND:20140423T170000Z
SUMMARY:Plastic Surgery Ethics: An Oxymoron
DESCRIPTION:
 Join us for a lecture from Christian J. Vercler, 
 MD, on Wednesday, April 23, 2014 from noon 
 till 1 pm in person or online. The lecture will 
 take place in East Fee Hall in Room C102 
 (the Patenge Room), and can be accessed live 
 at connect.msu.edu/brownbag.\n
 \n
 Christian J. 
 Vercler, MD, is a Clinical Assistant Professor 
 of Craniofacial Surgery at the University of 
 Michigan.\n\n
 Price: free\n
 Sponsor: Center for Ethics and Humanities in the Life Sciences\n
 Sponsor's Homepage: http://www.bioethics.msu.edu/\n
 Contact name: Libby Bogdan-Lovis\n
 Contact email: bogdanlo@msu.edu\n
LOCATION:C102 East Fee Hall or at bioethics.msu.edu
END:VEVENT
END:VCALENDAR
