BEGIN:VCALENDAR
VERSION:2.0
METHOD:PUBLISH
PRODID:-//Virginia Tech//VT Calendar//EN
BEGIN:VEVENT
DTSTAMP:20131207T000000Z
UID:1382470868210@events.msu.edu
CATEGORIES:Special Events
DTSTART:20131207T000000Z
DTEND:20131207T045900Z
SUMMARY:Campus Center Cinemas - The Family
DESCRIPTION:
 http://www.imdb.com/title/tt2404311/?ref_=nv_sr_1\n\n
 Price: FREE for MSU undergraduate students living in 
 residence halls\n
 Sponsor: University Activities Board and the Residence 
 Halls Assoc.\n
 Sponsor's Homepage: http://www.uabevents.com\n
 Contact name: University Activities Board\n
 Contact phone: 355-3354\n
 Contact email: uab@rhs.msu.edu\n
 for more info visit the web at:\n 
 http://uabevents. com\n
LOCATION:102 Conrad Hall
END:VEVENT
END:VCALENDAR
