BEGIN:VCALENDAR
VERSION:2.0
METHOD:PUBLISH
PRODID:-//Virginia Tech//VT Calendar//EN
BEGIN:VEVENT
DTSTAMP:20131223T050000Z
UID:1382628908164-0065@events.msu.edu
CATEGORIES:Exhibits (Museum, Gardens, ...)
DTSTART;VALUE=DATE:20131223
DTEND;VALUE=DATE:20131224
SUMMARY:Urban Factors
DESCRIPTION:
 "Urban Factors" is an art installation by Xia 
 Gao, assistant professor of Apparel and Textile 
 Design (Art, Art History, and Design Dept. 
 at MSU)\n
 on display through Jan. 26, 2014 in 
 Art and Science Intersection Gallery at the 
 MSU Museum.\n
 \n
 This installation is part of Xia 
 Gao ongoing project "Changing Urban Landscape," 
 inspired by the striking contrasts from 
 fast transforming Chinese urban spaces and deteriorating 
 Detroit city-scapes.  Real data 
 from urban and social studies on Detroit are 
 reflected through this installation.\n\n
 Price: free\n
 Sponsor: Administration\n
 Sponsor's Homepage: http://museum.msu.edu/?q=node/1058\n
 Contact phone: (517) 355-2370\n
 Contact email: pr@museum.msu.edu\n
 for more info visit the web at:\n 
 http://museum.msu.edu/?q=node/1058\n
LOCATION:MSU Museum
END:VEVENT
END:VCALENDAR
