BEGIN:VCALENDAR
VERSION:2.0
METHOD:PUBLISH
PRODID:-//Virginia Tech//VT Calendar//EN
BEGIN:VEVENT
DTSTAMP:20131112T050000Z
UID:1383057934558-0003@events.msu.edu
CATEGORIES:Performing Arts (Dance, Music, Theatre,  ...)
DTSTART;VALUE=DATE:20131112
DTEND;VALUE=DATE:20131113
SUMMARY:Schuler Book Days
DESCRIPTION:
 Show your support for CMS by purchasing books 
 and other items at Schuler Books & Music Lansing 
 locations (Meridian Mall in Okemos and Eastwood 
 Towne Center). When you mention CMS Book 
 Days at the point of sale, 20 percent of your 
 purchase will be donated to the Community 
 Music School.\n\n
 Sponsor: Administration\n
 Sponsor's Homepage: http://cms.msu.edu\n
 Contact phone: (517) 355-7661\n
 Contact email: commusic@msu.edu\n
LOCATION:Schuler Books and Music Lansing
END:VEVENT
END:VCALENDAR
