BEGIN:VCALENDAR
VERSION:2.0
METHOD:PUBLISH
PRODID:-//Virginia Tech//VT Calendar//EN
BEGIN:VEVENT
DTSTAMP:20140213T003000Z
UID:1383310355599@events.msu.edu
CATEGORIES:Performing Arts (Dance, Music, Theatre,  ...)
DTSTART:20140213T003000Z
DTEND:20140213T023000Z
SUMMARY:Eisenhower Dance: Red, Hot and Blue
DESCRIPTION:
 On the heels of the popular Motown in Motion Act 
 One Family Series performance at Wharton Center 
 in 2012, the Eisenhower Dance returns with 
 Red, Hot and Blue! This powerfully compelling 
 evening of passion, humor, and sheer joy 
 showcases an array of works by renowned choreographers. 
 The evocative work explores non-stop 
 connections, drama, momentum and force. With 
 remarkable technique and innovative choreography, 
 the Eisenhower Dance is considered one 
 of the finest contemporary dance companies 
 in the nation, receiving overwhelming critical 
 acclaim and enthusiastic audience support.\n\n
 Price: Tickets starting from $10\n
 Sponsor: Administration\n
 Sponsor's Homepage: http://whartoncenter.com\n
 Contact name: Wharton Center Auto-Owners Insurance Ticketing 
 Office\n
 Contact phone: (517) 432-2000\n
 Contact email: whartoncenter@gmail.com\n
 for more info visit the web at:\n 
 http://www.whartoncenter.com/events/detail/eisenhower-dance-ensemble-red-hot-and-blue\n
LOCATION:Wharton Center for Performing Arts
END:VEVENT
END:VCALENDAR
