BEGIN:VCALENDAR
VERSION:2.0
METHOD:PUBLISH
PRODID:-//Virginia Tech//VT Calendar//EN
BEGIN:VEVENT
DTSTAMP:20140225T003000Z
UID:1383310691209@events.msu.edu
CATEGORIES:Performing Arts (Dance, Music, Theatre,  ...)
DTSTART:20140225T003000Z
DTEND:20140225T023000Z
SUMMARY:St. Petersburg Philharmonic Orchestra
DESCRIPTION:
 Few orchestras in the world possess the acclaim 
 and regard held by the St. Petersburg Philharmonic 
 Orchestra, led for over 20 years by the 
 legendary Yuri Temirkanov. The St. Petersburg 
 Philharmonic Orchestra is soul-stirring, 
 with their deep string sound, luscious brass, 
 and luminous winds. This performance features 
 Rachmaninoff's passionate Symphony No. 2, the 
 most spellbinding of the composer's three 
 symphonies, as well as Prokofiev's Violin Concerto 
 No. 2, one of the finest violin concertos 
 ever composed. Touching, yet brimming with 
 energy, this dynamic work features new violin 
 star Vilde Frang as soloist. A definite season 
 highlight - don't miss your chance to hear 
 the St. Petersburg Philharmonic Orchestra in 
 its first Wharton Center appearance!\n\n
 Price: Tickets from $27\n
 Sponsor: Administration\n
 Sponsor's Homepage: http://whartoncenter.com\n
 Contact name: Wharton Center Auto-Owners Insurance Ticketing 
 Office\n
 Contact phone: (517) 432-2000\n
 Contact email: whartoncenter@gmail.com\n
 for more info visit the web at:\n 
 http://www.whartoncenter.com/events/detail/st-petersburg-philharmonic-orchestra\n
LOCATION:Wharton Center for Performing Arts
END:VEVENT
END:VCALENDAR
