BEGIN:VCALENDAR
VERSION:2.0
METHOD:PUBLISH
PRODID:-//Virginia Tech//VT Calendar//EN
BEGIN:VEVENT
DTSTAMP:20131115T003000Z
UID:1383752773714@events.msu.edu
CATEGORIES:Performing Arts (Dance, Music, Theatre,  ...)
DTSTART:20131115T003000Z
DTEND:20131115T045900Z
SUMMARY:Turkish Classical Music Concert
DESCRIPTION:
 The MSU Rumi Club and Turkish Student Association 
 are hosting a group which will perform the 
 finest examples of Turkish classical music 
 on Nov. 14 at the Kellogg Center. Musicians include 
 Dr. Murat Salim Tokac, Furkan Bilgi, Atilla 
 Akinturk, Yavuzhan Erdem, Murat Irkilata, 
 and Tuba Akyol. \n
 \n
 General admission: $10 
 tickets at www.tasmich.org\n
 \n
 \n\n
 Price: $10\n
 Sponsor's Homepage: http://www.tasmich.org\n
LOCATION:MSU Kellogg Center Auditorium
END:VEVENT
END:VCALENDAR
