BEGIN:VCALENDAR
VERSION:2.0
METHOD:PUBLISH
PRODID:-//Virginia Tech//VT Calendar//EN
BEGIN:VEVENT
DTSTAMP:20140131T150000Z
UID:1383941791836@events.msu.edu
CATEGORIES:Performing Arts (Dance, Music, Theatre,  ...)
DTSTART:20140131T150000Z
DTEND:20140201T045900Z
SUMMARY:The Book of Mormon Tickets On Sale
DESCRIPTION:
 Tickets go on sale at 10:00 am on January 31, 
 2014 for the Book of Mormon. Order in person 
 at the Auto Owners Insurance Ticket Office, by 
 calling 1-800-WHARTON, or at www.whartoncenter.com.\n
 \n
 Ben 
 Brantley of The New York Times 
 calls it "the best musical of this century." 
 Entertainment Weekly says it's "the funniest 
 musical of all time." From South Park creators 
 Trey Parker and Matt Stone, it's The Book 
 of Mormon, winner of nine Tony Awards including 
 Best Musical. Jon Stewart of The Daily Show 
 calls it "a crowning achievement. So good 
 it makes me angry."\n\n
 Price: Tickets from $38\n
 Sponsor: Administration\n
 Sponsor's Homepage: http://whartoncenter.com\n
 Contact name: Wharton Center Auto-Owners Insurance Ticket Office\n
 Contact phone: (517) 432-2000\n
 Contact email: whartoncenter@gmail.com\n
 for more info visit the web at:\n 
 http://www.whartoncenter.com/events/detail/the-book-of-mormon\n
LOCATION:Wharton Center for Performing Arts
END:VEVENT
END:VCALENDAR
