BEGIN:VCALENDAR
VERSION:2.0
METHOD:PUBLISH
PRODID:-//Virginia Tech//VT Calendar//EN
BEGIN:VEVENT
DTSTAMP:20140124T171500Z
UID:1385482189942@events.msu.edu
CATEGORIES:Public Programs
DTSTART:20140124T171500Z
DTEND:20140124T183000Z
SUMMARY:Our Daily Work/ Our Daily Lives Brown Bag Series
DESCRIPTION:
 This week's presentation titled, "Direct Care 
 Workers: A Calling, the Job, and the Misjudging 
 of Social Value," presented by Clare Luz, 
 MSU College Of Human Medicine and a panel of 
 health care workers (co-sponsored by the MSU 
 Center for Gender in Global Context and the MSU 
 Women's Resource Center). "Our Daily Work 
 / Our Daily Lives" is a joint project that focuses 
 on the artistic traditions of workers and 
 on workplaces as contexts for the expression 
 of workers culture. The richness and diversity 
 of workers' experiences and workers culture 
 is explored and presented through an ongoing 
 series of exhibits, lectures, and presentations; 
 writing and research projects; reunions; 
 and demonstrations and discussions. The program 
 was established in 1992 and is coordinated 
 by the Michigan Traditional Arts Program 
 at the MSU Museum and the Labor Education Program 
 in the College of Social Science's School 
 of Human Resources and Labor Relations.\n
 \n\n
 Price: free\n
 Sponsor: MSU Museum\n
 Sponsor's Homepage: http://museum.msu.edu\n
 Contact name: John Beck\n
 Contact phone: (517) 432-3982\n
 Contact email: beckj@msu.edu\n
 for more info visit the web at:\n 
 http://museum.msu.edu\n
LOCATION:MSU Museum Auditorium
END:VEVENT
END:VCALENDAR
