BEGIN:VCALENDAR
VERSION:2.0
METHOD:PUBLISH
PRODID:-//Virginia Tech//VT Calendar//EN
BEGIN:VEVENT
DTSTAMP:20140414T161500Z
UID:1385484563169@events.msu.edu
CATEGORIES:Public Programs
DTSTART:20140414T161500Z
DTEND:20140414T173000Z
SUMMARY:Our Daily Work/ Our Daily Lives Brown Bag Series
DESCRIPTION:
 This week's presentation titled, "In the Wake 
 of Disaster: The Lake Carriers' Association, 
 Welfare Capitalism and Lake Erie's Black Friday 
 Storm of 1916," is presented by Matthew Daley, 
 History Department, Grand Valley State University. 
 "Our Daily Work / Our Daily Lives" 
 is a joint project that focuses on the artistic 
 traditions of workers and on workplaces as 
 contexts for the expression of workers culture. 
 The richness and diversity of workers' experiences 
 and workers culture is explored and 
 presented through an ongoing series of exhibits, 
 lectures, and presentations; writing and 
 research projects; reunions; and demonstrations 
 and discussions. The program was established 
 in 1992 and is coordinated by the Michigan 
 Traditional Arts Program at the MSU Museum 
 and the Labor Education Program in the College 
 of Social Science's School of Human Resources 
 and Labor Relations.\n
 \n\n
 Price: free\n
 Sponsor: MSU Museum\n
 Sponsor's Homepage: http://museum.msu.edu\n
 Contact name: John Beck\n
 Contact phone: (517) 432-3982\n
 Contact email: beckj@msu.edu\n
 for more info visit the web at:\n 
 http://museum.msu.edu\n
LOCATION:MSU Museum Auditorium
END:VEVENT
END:VCALENDAR
