BEGIN:VCALENDAR
VERSION:2.0
METHOD:PUBLISH
PRODID:-//Virginia Tech//VT Calendar//EN
BEGIN:VEVENT
DTSTAMP:20140120T190000Z
UID:1387307072171@events.msu.edu
CATEGORIES:Special Events
DTSTART:20140120T190000Z
DTEND:20140120T210000Z
SUMMARY:MLK Day Diversity Workshop
DESCRIPTION:
 In honor of MLK Day, Lyman Briggs students, faculty, 
 and staff are invited to participate in 
 a workshop on January 20 at 2:00-4:00 pm in 
 Holmes Hall, room C-106. \n
 \n
 The event will 
 feature mini presentations on key diversity topics 
 at MSU, such as campus responses to the 
 presence of international students and the role 
 of race and ethnicity in university admissions. 
 The audience will then be free to follow 
 one pair of presentation leaders to separate 
 rooms down the hall to discuss individual 
 issues in more depth, before returning to C-106 
 to bring together the results of the discussions.\n\n
 Price: free\n
 Sponsor: The Lyman Briggs Committee for Inclusivity\n
 Sponsor's Homepage: http://www.lbc.msu.edu/\n
 Contact name: Dr. Sean A. Valles\n
 Contact email: valles@msu.edu\n
LOCATION:C-106 Holmes Hall
END:VEVENT
END:VCALENDAR
