BEGIN:VCALENDAR
VERSION:2.0
METHOD:PUBLISH
PRODID:-//Virginia Tech//VT Calendar//EN
BEGIN:VEVENT
DTSTAMP:20140109T010000Z
UID:1389289927719-0001@events.msu.edu
CATEGORIES:Special Events
DTSTART:20140109T010000Z
DTEND:20140109T044500Z
SUMMARY:Cosmic Bowling
DESCRIPTION:
 Spartan Lanes, MSU Union\n
 8 p.m. - midnight\n
 Bring 
 your friends, grab some bowling shoes and 
 have a great time. Free with MSU ID.\n
 \n\n
 Price: FREE with MSU ID\n
 Sponsor: UAB\n
 Sponsor's Homepage: http://www.uabevents.com\n
 Contact name: UAB\n
 Contact email: uab@rhs.msu.edu\n
LOCATION:MSU Union
END:VEVENT
END:VCALENDAR
