BEGIN:VCALENDAR
VERSION:2.0
METHOD:PUBLISH
PRODID:-//Virginia Tech//VT Calendar//EN
BEGIN:VEVENT
DTSTAMP:20140221T010000Z
UID:1389621156831@events.msu.edu
CATEGORIES:Movie / Film
DTSTART:20140221T010000Z
DTEND:20140221T030000Z
SUMMARY:Quentin Tarantino's &quot;Jackie Brown&quot;
DESCRIPTION:
 Six 'players' on the trail of a half million in 
 cash. There's only one question: Who's playing 
 who?\n
 \n
 Quentin Tarentino's follow-up to 
 Pulp Fiction brought together Robert De Niro, 
 Samuel Jackson, Michael Keaton, Bridget Fonda, 
 Robert Forster, and the legendary Pam Grier. 
 Dan Kneece, Steadicam expert and one of the 
 camera operators on Jackie Brown, will be present 
 at the screening to answer questions following 
 the film. Says author Elmore Leonard: 
 &quot;This is the closest adaptation of my 
 work that actually puts my book on the screen. 
 It's something that only (Quentin) Tarantino 
 could do. He made the film his own but he created 
 characters and dialogue that sounded just 
 like I had envisioned them. With guys like 
 Robert De Niro and Samuel L. Jackson in the 
 cast, you can't go wrong.&quot;\n\n
 Price: FREE\n
 Sponsor: public\n
 Contact name: Tina Newhauser\n
 Contact phone: 517-432-1561\n
 Contact email: newhause@msu.edu\n
LOCATION:B122 Wells Hall
END:VEVENT
END:VCALENDAR
