BEGIN:VCALENDAR
VERSION:2.0
METHOD:PUBLISH
PRODID:-//Virginia Tech//VT Calendar//EN
BEGIN:VEVENT
DTSTAMP:20140314T140000Z
UID:1389898905865@events.msu.edu
CATEGORIES:Special Events
DTSTART:20140314T140000Z
DTEND:20140314T210000Z
SUMMARY:Poetry Out Loud State Competition
DESCRIPTION:
 Poetry Out Loud is a contest that encourages the 
 nation's youth to learn about great poetry 
 through memorization and recitation. After successful 
 pilot programs in Washington, DC, and 
 Chicago, Poetry Out Loud was launched in high 
 schools nationwide in the spring of 2006 
 and has grown to involve millions of students 
 across the country. The winners from the state 
 competition will go on to perform at the Final 
 Competition in Washington, D.C.\n\n
 Price: free\n
 Sponsor: Administration\n
 Sponsor's Homepage: http://poetry.rcah.msu.edu/\n
 Contact phone: 5178841932\n
 Contact email: cpoetry@msu.edu\n
 for more info visit the web at:\n 
 http://michiganhumanities.org/programs/poetry/\n
LOCATION:Hannah Community Center
END:VEVENT
END:VCALENDAR
