BEGIN:VCALENDAR
VERSION:2.0
METHOD:PUBLISH
PRODID:-//Virginia Tech//VT Calendar//EN
BEGIN:VEVENT
DTSTAMP:20140420T160000Z
UID:1390576776274@events.msu.edu
CATEGORIES:Athletics
DTSTART:20140420T160000Z
DTEND:20140421T035900Z
SUMMARY:Men's Tennis vs. Indiana
DESCRIPTION:
 For more information, go to www.msuspartans.com\n\n
 Sponsor: Administration\n
 Sponsor's Homepage: http://events.msu.edu/athletics/\n
LOCATION:Indoor Tennis Facility
END:VEVENT
END:VCALENDAR
