BEGIN:VCALENDAR
VERSION:2.0
METHOD:PUBLISH
PRODID:-//Virginia Tech//VT Calendar//EN
BEGIN:VEVENT
DTSTAMP:20140223T021500Z
UID:1391104856957-0002@events.msu.edu
CATEGORIES:Special Events
DTSTART:20140223T021500Z
DTEND:20140223T045900Z
SUMMARY:Campus Center Cinemas - Gravity
DESCRIPTION:
 Marvel vs. DC Superhero Contest - See a movie 
 at CCC, dress like your favorite superhero, and 
 vote which heroes you like more! (Marvel or 
 DC) Submitting a vote or social media contest 
 post enters you into a raffle to win! 3 winners 
 can select a prize between a mega movie 
 basket, brand-new movie posters, or a superhero 
 cardboard cutout! Results will determine 
 if MSU is a Marvel or DC campus!  Hope to see 
 you there!\n
 \n
 http://www.imdb.com/title/tt1454468/?ref_=nv_sr_1\n\n
 Price: FREE for undergraduate students living in MSU 
 residence halls, $2 for all others\n
 Sponsor: University Activities Board (UAB) and the Residence 
 Halls Assoc.\n
 Sponsor's Homepage: http://www.uabevents.com\n
 Contact name: University Activities Board\n
 Contact phone: 355-3354\n
 Contact email: uab@rhs.msu.edu\n
 for more info visit the web at:\n 
 http://uabevents.com\n
LOCATION:115B Wing, Wells Hall
END:VEVENT
END:VCALENDAR
