BEGIN:VCALENDAR
VERSION:2.0
METHOD:PUBLISH
PRODID:-//Virginia Tech//VT Calendar//EN
BEGIN:VEVENT
DTSTAMP:20140321T013000Z
UID:1393009829023@events.msu.edu
CATEGORIES:Special Events
DTSTART:20140321T013000Z
DTEND:20140321T045900Z
SUMMARY:Campus Center Cinemas - The Hobbit: The Desolation of Smaug
DESCRIPTION:
 \n
 \n
 Note:  All Students and guests must show valid 
 picture ID for movie entry.  All movies 
 are in the B Wing of Wells Hall.\n
 \n
 Grab your 
 Movie Rewards Card! Present card at register 
 when seeing a movie to start earning points 
 towards free prizes! Valid with Student ID. Cards 
 available at Campus Center Cinema's register 
 desk, B-wing, Wells Hall.\n
 \n
  \n
 \n
 http://www.imdb.com/title/tt2042568/?ref_=nv_sr_1\n\n
 Price: FREE for undergraduate students living in MSU 
 residence halls, $2 for all others\n
 Sponsor: University Activities Board (UAB) and the Residence 
 Halls Assoc.\n
 Sponsor's Homepage: http://www.uabevents.com\n
 Contact name: University Activities Board\n
 Contact phone: 355-3354\n
 Contact email: uab@rhs.msu.edu\n
 for more info visit the web at:\n 
 http://uabevents.com\n
LOCATION:115B Wing, Wells Hall
END:VEVENT
END:VCALENDAR
