BEGIN:VCALENDAR
VERSION:2.0
METHOD:PUBLISH
PRODID:-//Virginia Tech//VT Calendar//EN
BEGIN:VEVENT
DTSTAMP:20140402T050000Z
UID:1393960150229-0002@events.msu.edu
CATEGORIES:Special Events
DTSTART;VALUE=DATE:20140402
DTEND;VALUE=DATE:20140403
SUMMARY:MSU Science Festival
DESCRIPTION:
 Experience Science Like Never Before, with over 
 100 different hands-on activities and demonstrations, 
 seminars, exhibits, and guided tours 
 during the week-long MSU Science Festival. 
  There's something for everyone of any age!\n\n
 Price: free\n
 Sponsor: Michigan State University\n
 Sponsor's Homepage: http://sciencefestival.msu.edu/\n
 Contact name: Carla Hills\n
 Contact phone: (517) 353-8977\n
 Contact email: hillsc@msu.edu\n
 for more info visit the web at:\n 
 http://sciencefestival.msu.edu\n
LOCATION:MSU campus and East Lansing
END:VEVENT
END:VCALENDAR
