BEGIN:VCALENDAR
VERSION:2.0
METHOD:PUBLISH
PRODID:-//Virginia Tech//VT Calendar//EN
BEGIN:VEVENT
DTSTAMP:20140607T160000Z
UID:1393968044855@events.msu.edu
CATEGORIES:Public Programs
DTSTART:20140607T160000Z
DTEND:20140607T200000Z
SUMMARY:Family Day at The Broad Art Museum
DESCRIPTION:
 Come to the Education Wing of the museum to: create 
 colorful projects based on different pieces 
 in the exhibition, participate in creating 
 collaborative drawings with other kids, go 
 on an interactive scavenger hunt on an iPad, 
 and enjoy a museum tour designed especially 
 for families at 1pm. Presented by Farm Bureau 
 Insurance. \n\n
 Price: free\n
 Sponsor: public\n
 Contact name: Leyna Lightman\n
 Contact email: lightman@msu.edu\n
 for more info visit the web at:\n 
 http://broadmuseum.msu.edu/programs/education\n
LOCATION:Education Wing at The Broad Art Museum
END:VEVENT
END:VCALENDAR
