BEGIN:VCALENDAR
VERSION:2.0
METHOD:PUBLISH
PRODID:-//Virginia Tech//VT Calendar//EN
BEGIN:VEVENT
DTSTAMP:20140724T140000Z
UID:1394641941878@events.msu.edu
CATEGORIES:Training
DTSTART:20140724T140000Z
DTEND:20140724T160000Z
SUMMARY:Mendeley
DESCRIPTION:
 A comprehensive introduction to Mendeley, a free 
 reference manager and academic social network. 
 Learn how to:\n
 \n
 -Manage and organize references\n
 -Create 
 and share annotations\n
 -Collaborate 
 with other users\n
 \n
 -Discover new content 
 in areas of interest\n
 \n
  \n
 \n
 Attendees 
 should bring their own laptop with the Mendeley 
 Desktop already installed.\n
 \n
 For more information 
 please visit http://libguides.lib.msu.edu/mendeley\n
 \n
 *Previous 
 experience searching 
 article databases available from the MSU 
 Libraries is highly recommended.\n\n
 Price: free\n
 Sponsor: Administration\n
 Sponsor's Homepage: http://www.lib.msu.edu\n
 Contact name: Holly Flynn\n
 Contact phone: 517-884-0901\n
 Contact email: flynnhol@msu.edu\n
 for more info visit the web at:\n 
 http://lib.msu.edu\n
LOCATION:Main Library, Reference Instruction Room
END:VEVENT
END:VCALENDAR
