BEGIN:VCALENDAR
VERSION:2.0
METHOD:PUBLISH
PRODID:-//Virginia Tech//VT Calendar//EN
BEGIN:VEVENT
DTSTAMP:20140407T230000Z
UID:1394643230840@events.msu.edu
CATEGORIES:Special Events
DTSTART:20140407T230000Z
DTEND:20140408T003000Z
SUMMARY:Financial Health for College Students: The Tools You Need to Succeed
DESCRIPTION:
 Representatives from the MSU Federal Credit Union 
 and MSU's Financial Aid Office will provide 
 tools to help students with their finances. 
 \n\n
 Price: free\n
 Sponsor: Administration\n
 Sponsor's Homepage: http://www.lib.msu.edu\n
 Contact name: Holly Flynn\n
 Contact phone: 517-884-0901\n
 Contact email: flynnhol@msu.edu\n
 for more info visit the web at:\n 
 http://lib.msu.edu\n
LOCATION:Main Library, W449 (4th Floor, West Wing)
END:VEVENT
END:VCALENDAR
