BEGIN:VCALENDAR
VERSION:2.0
METHOD:PUBLISH
PRODID:-//Virginia Tech//VT Calendar//EN
BEGIN:VEVENT
DTSTAMP:20140330T020000Z
UID:1394727677374@events.msu.edu
CATEGORIES:Special Events
DTSTART:20140330T020000Z
DTEND:20140330T045900Z
SUMMARY:Capture The Flag
DESCRIPTION:
 Register your team of up to 8 students for Capture 
 the flag today!Registration soon to be available 
 online at uabevents.com.  Join us for 
 awesome  prizes and some friendly competition!\n\n
 Price: FREE\n
 Sponsor: UAB\n
 Sponsor's Homepage: http://www.uabevents.com\n
 Contact name: University Activities Board\n
 Contact phone: 355-3354\n
 Contact email: uab@rhs.msu.edu\n
 for more info visit the web at:\n 
 http://uabevents.com\n
LOCATION:Adam's Field, West Circle
END:VEVENT
END:VCALENDAR
