BEGIN:VCALENDAR
VERSION:2.0
METHOD:PUBLISH
PRODID:-//Virginia Tech//VT Calendar//EN
BEGIN:VEVENT
DTSTAMP:20140726T010000Z
UID:1395071245959-0012@events.msu.edu
CATEGORIES:Performing Arts (Dance, Music, Theatre,  ...)
DTSTART:20140726T010000Z
DTEND:20140725T190000Z
SUMMARY:Musical Theatre Camp
DESCRIPTION:
 Musical Theatre Camp is a day camp for elementary, 
 middle and high school students. Campers 
 in grades 9-12 will spend the full two weeks 
 developing skills including solo and ensemble 
 voice development, choreography, and prop design, 
 while focusing on healthy singing using 
 musical theatre repertoire. Campers in grades 
 2-8 will join them in the second week, and 
 the camp will culminate in a final revue featuring 
 scenes and songs from many popular musicals.\n
 \n
 Tuition 
 is $300 for grades 9-12 and 
 $220 for grades 2-8. Contact CMS at (517) 355-7661 
 to enroll.\n\n
 Price: $300 for grades 9-12; $220 for grades 2-8\n
 Sponsor: Administration\n
 Sponsor's Homepage: http://cms.msu.edu\n
 Contact phone: (517) 355-7661\n
LOCATION:MSU Community Music School
END:VEVENT
END:VCALENDAR
