BEGIN:VCALENDAR
VERSION:2.0
METHOD:PUBLISH
PRODID:-//Virginia Tech//VT Calendar//EN
BEGIN:VEVENT
DTSTAMP:20140625T010000Z
UID:1395071378097-0002@events.msu.edu
CATEGORIES:Performing Arts (Dance, Music, Theatre,  ...)
DTSTART:20140625T010000Z
DTEND:20140624T170000Z
SUMMARY:Rock Camp
DESCRIPTION:
 Rock Camp is a day camp for middle and high school 
 students who have some experience playing 
 their instruments (guitar, bass, drums, keyboard 
 or vocals). Bands will be coached by members 
 of The Outer Vibe.\n
 \n
 At camp, students 
 will form and work in their own bands based 
 on musical interest and skill level. They will 
 learn songs in preparation for an end-of-camp 
 rock concert at The Loft and participate in 
 workshops such as songwriting, marketing, promotion, 
 sound, and more!\n
 \n
 Students who play 
 other instruments or have limited experience 
 should consult with the Community Music School. 
 Audition tapes are required.\n
 \n
 Tuition 
 is $220 per camper. Call CMS at (517) 355-7661 
 to enroll.\n\n
 Price: $220\n
 Sponsor: Administration\n
 Sponsor's Homepage: http://cms.msu.edu\n
 Contact phone: (517)-355-7661\n
LOCATION:MSU Community Music School
END:VEVENT
END:VCALENDAR
