BEGIN:VCALENDAR
VERSION:2.0
METHOD:PUBLISH
PRODID:-//Virginia Tech//VT Calendar//EN
BEGIN:VEVENT
DTSTAMP:20140507T221500Z
UID:1397575773411@events.msu.edu
CATEGORIES:Athletics
DTSTART:20140507T221500Z
DTEND:20140507T234500Z
SUMMARY:Be in the WKAR Current Sports Studio Audience
DESCRIPTION:
 Current Sports TV is recorded in front of  a live 
 studio audience most Wednesdays in WKAR-TV 
 Studios on the campus of Michigan State University. 
 It's FREE to be in the TV audience, 
 but seating is limited and registration is required.\n
 Doors 
 open for audience check-in at 
 6:00 p.m. Program taping begins at approximately 
 6:30 p.m. and will conclude at approximately 
 7:30 p.m.\n
 \n
 Current Sports TV recording 
 takes place in WKAR TV Studios, in the Communication 
 Arts &amp; Sciences Building, 404 Wilson 
 Road, on the campus of Michigan State University.\n
 \n
 Parking 
 is convenient in the Trowbridge 
 Road parking ramp at Red Cedar and Trowbridge 
 Roads. Parking is FREE in unmetered spaces 
 after 6 p.m.; Prior to 6pm, parking is 
 $1.25/hr in metered spaces (quarters only).\n\n
 Price: free\n
 Sponsor: public\n
 Contact name: Marlene Wilkins\n
 Contact phone: (517) 884-4700\n
 Contact email: marlene@wkar.org\n
 for more info visit the web at:\n 
 http://wkar.org/current-sports-be-tv-audience\n
LOCATION:Communication Arts &amp; Sciences Bldg.
END:VEVENT
END:VCALENDAR
