BEGIN:VCALENDAR
VERSION:2.0
METHOD:PUBLISH
PRODID:-//Virginia Tech//VT Calendar//EN
BEGIN:VEVENT
DTSTAMP:20140524T160000Z
UID:1397830289554@events.msu.edu
CATEGORIES:Performing Arts (Dance, Music, Theatre,  ...)
DTSTART:20140524T160000Z
DTEND:20140525T035900Z
SUMMARY:Lauren Hansen Studio Recital
DESCRIPTION:
 Violin students from Lauren Hansen's studio will 
 perform in their spring recital. Join us!\n\n
 Price: free\n
 Sponsor: Administration\n
 Sponsor's Homepage: http://cms.msu.edu\n
 Contact phone: 517-355-7661\n
 Contact email: commusic@msu.edu\n
LOCATION:MSU Community Music School
END:VEVENT
END:VCALENDAR
