BEGIN:VCALENDAR
VERSION:2.0
METHOD:PUBLISH
PRODID:-//Virginia Tech//VT Calendar//EN
BEGIN:VEVENT
DTSTAMP:20140619T213000Z
UID:1401908343986@events.msu.edu
CATEGORIES:Exhibits (Museum, Gardens, ...)
DTSTART:20140619T213000Z
DTEND:20140619T233000Z
SUMMARY:Broad Bike Ride with the Lansing Bike Party 
DESCRIPTION:
 Hit the road with the Broad - we're biking from 
 the museum to the Lansing City Market for some 
 eats in conjunction with the Garden Project's 
 Third Thursday Potluck! \n
 \n
 5:30 PM • Bike 
 Ride (meet in the Broad MSU Sculpture Garden)\n
 6-7:30 
 PM • Potluck (Lansing City Market, 
 325 City Market Drive)\n\n
 Price: Free and open to the public\n
 Sponsor: Administration\n
 Sponsor's Homepage: http://events.msu.edu/broadart/\n
 Contact name: Sandra Szymanski\n
 Contact phone: (517) 884-3914\n
 Contact email: szyman48@msu.edu\n
 for more info visit the web at:\n 
 https://www.facebook.com/events/1457522017824082/\n
LOCATION:Eli and Edythe Broad Art Museum
END:VEVENT
END:VCALENDAR
