BEGIN:VCALENDAR
VERSION:2.0
METHOD:PUBLISH
PRODID:-//Virginia Tech//VT Calendar//EN
BEGIN:VEVENT
DTSTAMP:20140628T020000Z
UID:1402508036490-0001@events.msu.edu
CATEGORIES:Performing Arts (Dance, Music, Theatre,  ...)
DTSTART:20140628T020000Z
DTEND:20140628T030000Z
SUMMARY:The Weird by Roberto Aguirre-Sacasa
DESCRIPTION:
 A collection of six short, creepy, pulpy plays, 
 THE WEIRD is narrated by horror host M.T. Grave, 
 who introduces each of the evening's ghoulish, 
 funny delights. In BLOODY MARY, two oversexed 
 teenagers play a dangerous game of cat-and-mouse 
 while driving along a deserted highway 
 late at night. In INSECT LOVE, a scientist 
 and his lab assistant fall in love...while 
 the sci-fi classic The Fly plays in movie 
 theatres across the country. In THE TEN-MINUTE 
 PLAY ABOUT ROSEMARY'S BABY, a young couple 
 moves into an apartment building with nosey neighbors...as 
 well as a demonic presence. In 
 SWAMP GOTHIC, a handsome college student risks 
 man-eating alligators, voodoo and zombies to 
 find his equally handsome missing best friend. 
 In MORNING BECOMES OLESTRA, a conniving femme 
 fatale plans her obese husband's murder...with 
 the help of a vampire. And in DINNER WITH 
 THE SUPERFRIENDS, two gal pals get together 
 for some reminiscing...and crime-fighting.\n
 \n
 (Appropriate 
 for ages 14 and older)\n
 \n
 \n\n
 Price: FREE\n
 Sponsor: Department of Theatre\n
 Sponsor's Homepage: http://theatre.msu.edu/\n
 Contact name: Kirk Domer\n
 Contact phone: 517-355-6690\n
 Contact email: domer@msu.edu\n
 for more info visit the web at:\n 
 http://theatre.msu.edu/summercircle\n
LOCATION:The Banks of the Red Cedar River (behind the Auditorium Building)
END:VEVENT
END:VCALENDAR
