BEGIN:VCALENDAR
VERSION:2.0
METHOD:PUBLISH
PRODID:-//Virginia Tech//VT Calendar//EN
BEGIN:VEVENT
DTSTAMP:20140627T000000Z
UID:1402508340432-0002@events.msu.edu
CATEGORIES:Performing Arts (Dance, Music, Theatre,  ...)
DTSTART:20140627T000000Z
DTEND:20140627T020000Z
SUMMARY:Ruthless the Musical! Book and Lyrics by Joel Paley, Music by Marvin Laird
DESCRIPTION:
 This campy musical spoofs "The Bad Seed," "All 
 About Eve," "Gypsy," "Valley of the Dolls," 
 and more as it tells the story of possibly homicidal 
 eight-year-old Tina Denmark and her desperation 
 to play Pippi Longstocking in the 
 school musical. Tina is sent to the Daisy Clover 
 School for Psychotic Ingénues while her mother 
 gains fame and wealth performing on Broadway. 
 This musical about ambition contains great 
 songs and a hilarious book. \n
 \n
 (Appropriate 
 for all ages)\n
 \n
 \n\n
 Price: FREE\n
 Sponsor: Department of Theatre\n
 Sponsor's Homepage: http://theatre.msu.edu/\n
 Contact name: Kirk Domer\n
 Contact phone: 517-355-6690\n
 Contact email: domer@msu.edu\n
 for more info visit the web at:\n 
 http://theatre.msu.edu/summercircle\n
LOCATION:The Banks of the Red Cedar River (behind the Auditorium Building)
END:VEVENT
END:VCALENDAR
