BEGIN:VCALENDAR
VERSION:2.0
METHOD:PUBLISH
PRODID:-//Virginia Tech//VT Calendar//EN
BEGIN:VEVENT
DTSTAMP:20140621T000000Z
UID:1402508407882-0003@events.msu.edu
CATEGORIES:Performing Arts (Dance, Music, Theatre,  ...)
DTSTART:20140621T000000Z
DTEND:20140621T020000Z
SUMMARY:Detroit by Lisa D-Amour
DESCRIPTION:
 In a first-ring suburb just outside a city that 
 might be Detroit, Ben and Mary see sudden signs 
 of life at the deserted house next door 
 and invite their new neighbors Sharon and Kenny 
 over for a barbecue. As the action unfolds 
 we learn that Sharon and Kenny met at rehab, 
 neither is employed, and they don't own a stick 
 of furniture. The quintessential American 
 back-yard party quickly turns into something 
 more dangerous-and filled with potential. \n
 \n
 (Appropriate for mature audiences only)\n
 \n
 \n\n
 Price: FREE\n
 Sponsor: Department of Theatre\n
 Sponsor's Homepage: http://theatre.msu.edu/\n
 Contact name: Kirk Domer\n
 Contact phone: 517-355-6690\n
 Contact email: domer@msu.edu\n
 for more info visit the web at:\n 
 http://theatre.msu.edu/summercircle\n
LOCATION:The Banks of the Red Cedar River (behind the Auditorium Building)
END:VEVENT
END:VCALENDAR
