BEGIN:VCALENDAR
VERSION:2.0
METHOD:PUBLISH
PRODID:-//Virginia Tech//VT Calendar//EN
BEGIN:VEVENT
DTSTAMP:20141101T000000Z
UID:1402511090327@events.msu.edu
CATEGORIES:Performing Arts (Dance, Music, Theatre,  ...)
DTSTART:20141101T000000Z
DTEND:20141101T035500Z
SUMMARY:HAUNTED AUD
DESCRIPTION:
 6th Annual\n
 \n
 Last season's scarily successful 
 hellraiser of a fundraiser supported numerous 
 student initiatives and student organizations 
 with all of its proceeds.\n
 \n
 All proceeds 
 will assist student organizations and initiatives.\n
 \n
 On 
 the corner of Auditorium Road & Farm 
 Lane.\n
 \n
 Tickets are available at the door.\n
 \n
 \n\n
 Price: $10 - General Admission\n
 Sponsor: Department of Theatre\n
 Sponsor's Homepage: http://theatre.msu.edu/\n
 Contact name: Kirk Domer\n
 Contact phone: 517-355-6690\n
 Contact email: domer@msu.edu\n
 for more info visit the web at:\n 
 http://theatre.msu.edu/index.php/productions/season-archive/2014-2015-season/haunted-aud-2014/\n
LOCATION:MSU Auditorium Building
END:VEVENT
END:VCALENDAR
