BEGIN:VCALENDAR
VERSION:2.0
METHOD:PUBLISH
PRODID:-//Virginia Tech//VT Calendar//EN
BEGIN:VEVENT
DTSTAMP:20150208T190000Z
UID:1402521006761-0002@events.msu.edu
CATEGORIES:Performing Arts (Dance, Music, Theatre,  ...)
DTSTART:20150208T190000Z
DTEND:20150208T210000Z
SUMMARY:THEATRE2FILM PROJECT
DESCRIPTION:
 Directed by Mark Colson\n
 \n
 A show developed by 
 students that will play first as a theatrical 
 piece and later be filmed. In a show that explores 
 the terms "theatrical" and cinematic" 
 audiences will be witness to this unique experiment.\n
 \n
 Tickets 
 are available from the Wharton 
 Center Box Office, 1.800.WHARTON, whartoncenter.com\n
 \n\n
 Price: $10 - General Admission\n
 Sponsor: Department of Theatre\n
 Sponsor's Homepage: http://theatre.msu.edu/\n
 Contact name: Kirk Domer\n
 Contact phone: 517-355-6690\n
 Contact email: domer@msu.edu\n
 for more info visit the web at:\n 
 http://theatre.msu.edu/index.php/productions/season-archive/2014-2015-season/theatre2film/\n
LOCATION:Studio 60 Theatre in the MSU Auditorium
END:VEVENT
END:VCALENDAR
