BEGIN:VCALENDAR
VERSION:2.0
METHOD:PUBLISH
PRODID:-//Virginia Tech//VT Calendar//EN
BEGIN:VEVENT
DTSTAMP:20150402T003000Z
UID:1402539617490-0001@events.msu.edu
CATEGORIES:Performing Arts (Dance, Music, Theatre,  ...)
DTSTART:20150402T003000Z
DTEND:20150402T023000Z
SUMMARY:BUG
DESCRIPTION:
 \n
 By Tracy Letts\n
 \n
 Tracy Letts' disturbing psychological 
 drama explores paranoia and conspiracy 
 theories. Set in a seedy Oklahoma motel 
 room, two down on their luck loners desperately 
 cling to each other... and check each other 
 for bug bites.\n
 \n
 Directed by Rob Roznowski\n
 \n
 Tickets 
 are available from the Wharton Center 
 Box Office, 1.800.WHARTON, whartoncenter.com\n\n
 Price: $10 - General Admission\n
 Sponsor: Department of Theatre\n
 Sponsor's Homepage: http://theatre.msu.edu/\n
 Contact name: Kirk Domer\n
 Contact phone: 517-355-6690\n
 Contact email: domer@msu.edu\n
 for more info visit the web at:\n 
 http://theatre.msu.edu/index.php/productions/season-archive/2014-2015-season/bug/\n
LOCATION:Arena Theatre in the MSU Auditorium
END:VEVENT
END:VCALENDAR
