BEGIN:VCALENDAR
VERSION:2.0
METHOD:PUBLISH
PRODID:-//Virginia Tech//VT Calendar//EN
BEGIN:VEVENT
DTSTAMP:20140915T233000Z
UID:1406847581402@events.msu.edu
CATEGORIES:Special Events
DTSTART:20140915T233000Z
DTEND:20140916T010000Z
SUMMARY:World View Lecture Series: NPR Contributor Michele Norris
DESCRIPTION:
 NPR contributor and award-winning journalist Michele 
 Norris will speak about her memoir, &quot;Grace 
 of Silence,&quot; dicuss her &quot;Race 
 Card&quot; project and sign books. This 
 program is co-sponsored by OBOC and the World 
 View Lecture Series. The event is ticketed. 
 Students inquire at onebook@msu.edu for free 
 tickets.\n\n
 Price: Students: free, public: $25\n
 Sponsor: public\n
 Contact name: Mandie Maxwell\n
 Contact phone: 517-432-0125\n
 Contact email: maxwe118@msu.edu\n
 for more info visit the web at:\n 
 http://onebookeastlansing.com/Home/2014Events.aspx\n
LOCATION:Wharton Center
END:VEVENT
END:VCALENDAR
