BEGIN:VCALENDAR
VERSION:2.0
METHOD:PUBLISH
PRODID:-//Virginia Tech//VT Calendar//EN
BEGIN:VEVENT
DTSTAMP:20140826T180000Z
UID:1406900255543@events.msu.edu
CATEGORIES:Student Events
DTSTART:20140826T180000Z
DTEND:20140826T193000Z
SUMMARY:Commuter/Transfer Student Meeting
DESCRIPTION:
 •New students to MSU who do not reside on campus 
 are strongly encouraged to attend this session. 
 Information on making MSU your "home away 
 from home" and an opportunity to meet fellow 
 commuting Spartans are the goals of this session.\n
 \n
 •Those 
 students who have previously 
 attended another post-secondary institution 
 but are new to MSU are REQUIRED to attend this 
 session. Important information about such 
 topics as transfer of credits, parking, and feeling 
 connected to MSU will be highlighted. 
 \n
 \n\n
 Sponsor's Homepage: http://fallwelcome.msu.edu\n
 Contact email: stulife@msu.edu\n
LOCATION:B115 Wells Hall
END:VEVENT
END:VCALENDAR
