BEGIN:VCALENDAR
VERSION:2.0
METHOD:PUBLISH
PRODID:-//Virginia Tech//VT Calendar//EN
BEGIN:VEVENT
DTSTAMP:20141201T211000Z
UID:1407332691413@events.msu.edu
CATEGORIES:Conferences / Seminars / Lectures
DTSTART:20141201T211000Z
DTEND:20141201T220000Z
SUMMARY:Plant Biology/Plant Research Laboratory Seminar Series
DESCRIPTION:
 Dr. Chris Klausmeier presents his tenure seminar 
 for the Plant Biology Seminar Series, titled 
 "Trait-based Approaches to Plankton Ecology."\n\n
 Price: free\n
 Sponsor: Administration\n
 Sponsor's Homepage: http://events.msu.edu/plant-biology/\n
 Contact name: Alan Conceicao\n
 Contact phone: 517-432-4429\n
 Contact email: conceic1@msu.edu\n
 for more info visit the web at:\n 
 http://plantbiology.natsci.msu.edu/department-info/monday-seminar-series/\n
LOCATION:101 Biochemistry Bldg
END:VEVENT
END:VCALENDAR
