BEGIN:VCALENDAR
VERSION:2.0
METHOD:PUBLISH
PRODID:-//Virginia Tech//VT Calendar//EN
BEGIN:VEVENT
DTSTAMP:20140823T190000Z
UID:1407336779582@events.msu.edu
CATEGORIES:Athletics
DTSTART:20140823T190000Z
DTEND:20140824T035900Z
SUMMARY:Women's Field Hockey
DESCRIPTION:
 vs. Kent State (exh.)\n\n
 Sponsor: MSU Athletics\n
 Sponsor's Homepage: http://events.msu.edu/athletics/\n
LOCATION:East Lansing, MI
END:VEVENT
END:VCALENDAR
