BEGIN:VCALENDAR
VERSION:2.0
METHOD:PUBLISH
PRODID:-//Virginia Tech//VT Calendar//EN
BEGIN:VEVENT
DTSTAMP:20141019T160000Z
UID:1407337647852@events.msu.edu
CATEGORIES:Athletics
DTSTART:20141019T160000Z
DTEND:20141020T035900Z
SUMMARY:Women's Field Hockey
DESCRIPTION:
 vs. Northwestern\n\n
 Sponsor: MSU Athletics\n
 Sponsor's Homepage: http://events.msu.edu/athletics/\n
LOCATION:East Lansing, MI
END:VEVENT
END:VCALENDAR
