BEGIN:VCALENDAR
VERSION:2.0
METHOD:PUBLISH
PRODID:-//Virginia Tech//VT Calendar//EN
BEGIN:VEVENT
DTSTAMP:20140118T050000Z
UID:1407340924829@events.msu.edu
CATEGORIES:Athletics
DTSTART;VALUE=DATE:20140118
DTEND;VALUE=DATE:20140119
SUMMARY:Women's Tennis
DESCRIPTION:
 vs. Oakland\n\n
 Sponsor: MSU Athletics\n
 Sponsor's Homepage: http://events.msu.edu/athletics/\n
LOCATION:East Lansing, MI
END:VEVENT
END:VCALENDAR
