BEGIN:VCALENDAR
VERSION:2.0
METHOD:PUBLISH
PRODID:-//Virginia Tech//VT Calendar//EN
BEGIN:VEVENT
DTSTAMP:20141101T040000Z
UID:1407343049921@events.msu.edu
CATEGORIES:Athletics
DTSTART;VALUE=DATE:20141101
DTEND;VALUE=DATE:20141102
SUMMARY:Women's Volleyball Game
DESCRIPTION:
 vs. Northwestern\n\n
 Sponsor: MSU Athletics\n
 Sponsor's Homepage: http://events.msu.edu/athletics/\n
LOCATION:East Lansing, MI
END:VEVENT
END:VCALENDAR
