BEGIN:VCALENDAR
VERSION:2.0
METHOD:PUBLISH
PRODID:-//Virginia Tech//VT Calendar//EN
BEGIN:VEVENT
DTSTAMP:20141122T050000Z
UID:1407343383311@events.msu.edu
CATEGORIES:Athletics
DTSTART;VALUE=DATE:20141122
DTEND;VALUE=DATE:20141123
SUMMARY:Women's Volleyball Game
DESCRIPTION:
 vs. Rutgers\n\n
 Sponsor: MSU Athletics\n
 Sponsor's Homepage: http://events.msu.edu/athletics/\n
LOCATION:East Lansing, MI
END:VEVENT
END:VCALENDAR
