BEGIN:VCALENDAR
VERSION:2.0
METHOD:PUBLISH
PRODID:-//Virginia Tech//VT Calendar//EN
BEGIN:VEVENT
DTSTAMP:20141105T170000Z
UID:1407868737118@events.msu.edu
CATEGORIES:Conferences / Seminars / Lectures
DTSTART:20141105T170000Z
DTEND:20141105T180000Z
SUMMARY:Dissertation Proposal Seminar - Nadine El-Ayache
DESCRIPTION:
 Doctoral Student, Pharmacology & Toxicology\n
 Michigan 
 State University, East Lansing, MI\n
 \n
 Host: 
 James Galligan, Ph.D.\n\n
 Price: Free\n
 Sponsor: Dept of Pharmacology & Toxicology\n
 Sponsor's Homepage: http://phmtox.msu.edu/\n
 Contact name: Student Office\n
 Contact phone: (517) 884-0409\n
 Contact email: phm@msu.edu\n
 for more info visit the web at:\n 
 http://phmtox.msu.edu/education/Seminars-PhmTox.htm\n
LOCATION:B448-449 Life Sciences  (behind Bott Nursing Building)
END:VEVENT
END:VCALENDAR
