BEGIN:VCALENDAR
VERSION:2.0
METHOD:PUBLISH
PRODID:-//Virginia Tech//VT Calendar//EN
BEGIN:VEVENT
DTSTAMP:20141107T003000Z
UID:1409628691125@events.msu.edu
CATEGORIES:Performing Arts (Dance, Music, Theatre,  ...)
DTSTART:20141107T003000Z
DTEND:20141107T045900Z
SUMMARY:Tuba-Euphonium Ensemble
DESCRIPTION:
  Price: free\n
 Sponsor: College of Music\n
 Sponsor's Homepage: http://www.music.msu.edu\n
 Contact email: musicpr@msu.edu\n
 for more info visit the web at:\n 
 http://music.msu.edu/event-listing\n
LOCATION:Fairchild Theatre, MSU Auditorium
END:VEVENT
END:VCALENDAR
