BEGIN:VCALENDAR
VERSION:2.0
METHOD:PUBLISH
PRODID:-//Virginia Tech//VT Calendar//EN
BEGIN:VEVENT
DTSTAMP:20141211T170000Z
UID:1409679038990@events.msu.edu
CATEGORIES:Conferences / Seminars / Lectures
DTSTART:20141211T170000Z
DTEND:20141211T180000Z
SUMMARY:"How long do I have, Doc?" Ethical Issues in Prognostication for Older Adults
DESCRIPTION:
 Join us for a lecture from Alexander Smith, MD, 
 MS, MPH, on Thursday, December 11, 2014 from 
 noon till 1 pm in person or online. The lecture 
 will take place in Fee Hall in Room E4 (located 
 in the basement), and can be accessed 
 live at connect.msu.edu/brownbag.\n
 \n
 Alexander 
 Smith, MD, MS, MPH, is an Associate Professor 
 of Medicine at San Francisco VA Medical Center, 
 University of California, San Francisco 
 Division of Geriatrics.\n\n
 Price: free\n
 Sponsor: Center for Ethics and Humanities in the Life Sciences\n
 Sponsor's Homepage: http://www.bioethics.msu.edu/\n
 Contact name: Libby Bogdan-Lovis\n
 Contact email: bogdanlo@msu.edu\n
LOCATION:E4 Fee Hall or at bioethics.msu.edu
END:VEVENT
END:VCALENDAR
