BEGIN:VCALENDAR
VERSION:2.0
METHOD:PUBLISH
PRODID:-//Virginia Tech//VT Calendar//EN
BEGIN:VEVENT
DTSTAMP:20141001T150000Z
UID:1409763552007@events.msu.edu
CATEGORIES:Special Events
DTSTART:20141001T150000Z
DTEND:20141001T180000Z
SUMMARY:RCAH Center for Poetry Fall Poetry Chalking
DESCRIPTION:
 Come chalk a poem, meet the Center for Poetry 
 staff, and have some apple cider. We provide 
 the chalk; bring your favorite poem, or use one 
 of ours!\n
 \n
 Facebook event: https://www.facebook.com/events/306165742901086/\n\n
 Price: free\n
 Sponsor: Administration\n
 Sponsor's Homepage: http://poetry.rcah.msu.edu/\n
 Contact name: RCAH Center for Poetry\n
 Contact phone: 5178841932\n
 Contact email: cpoetry@msu.edu\n
 for more info visit the web at:\n 
 http://poetry.rcah.msu.edu/calendar.html\n
LOCATION:River Trail behind Shaw Hall (outdoors)
END:VEVENT
END:VCALENDAR
