BEGIN:VCALENDAR
VERSION:2.0
METHOD:PUBLISH
PRODID:-//Virginia Tech//VT Calendar//EN
BEGIN:VEVENT
DTSTAMP:20141017T130000Z
UID:1409942294914@events.msu.edu
CATEGORIES:Conferences / Seminars / Lectures
DTSTART:20141017T130000Z
DTEND:20141017T140000Z
SUMMARY:DRUG DISCOVERY SEMINAR SERIES - U of M, CDNM
DESCRIPTION:
 ROBERT H. CICHEWICZ, PhD\n
 Regents' Professor and 
 INPART Director\n
 Dept of Chemistry and Biochemistry, 
 The U\n
 of Michigan, Ann Arbor, MI\n
 \n
 "The 
 Massive Opportunities in the Minute\n
 World of Microbial Natural Products"\n
 \n
 Videocast 
 from the University of Michigan\n\n
 Price: Free\n
 Sponsor: Dept of Pharmacology & Toxicology\n
 Sponsor's Homepage: http://phmtox.msu.edu/\n
 Contact name: Student Office\n
 Contact phone: 884-0409\n
 Contact email: phm@msu.edu\n
 for more info visit the web at:\n 
 http://phmtox.msu.edu/education/Seminars-PhmTox.htm\n
LOCATION:B408 Life Sciences  (behind Bott Nursing Building)
END:VEVENT
END:VCALENDAR
