BEGIN:VCALENDAR
VERSION:2.0
METHOD:PUBLISH
PRODID:-//Virginia Tech//VT Calendar//EN
BEGIN:VEVENT
DTSTAMP:20141010T120000Z
UID:1410025554298@events.msu.edu
CATEGORIES:Conferences / Seminars / Lectures
DTSTART:20141010T120000Z
DTEND:20141010T190000Z
SUMMARY:MSU Women in STEM Conference
DESCRIPTION:
 Making a STATEment: MSU Women in STEM conference 
 features a keynote address, presentations 
 and breakout sessions that focus on professional 
 development and leadership.\n
 \n
 ALL MSU alumnae, 
 faculty and staff, and friends are welcome 
 to attend (not just those working in the 
 science, engineering, and technology fields). 
  Attendees can connect and engage with others, 
 expand their professional network and acquire 
 tools and knowledge that can assist them 
 in furthering their career objectives.\n
 \n
 One 
 and two-day registration options are available. 
 For conference details and to register, 
 go to womeninstem.msu.edu.  \n
 \n
 Bring a friend 
 and receive 20% off each registration.\n
 \n
 PLEASE 
 REGISTER BY SEPTEMBER 28 at www.womeninstem.msu.edu.\n
 \n\n
 Price: Varies\n
 Sponsor: public\n
 Contact name: Elizabeth Wheeler\n
 Contact phone: 517-884-0290\n
 Contact email: szufnar@msu.edu\n
 for more info visit the web at:\n 
 http://www.womeninstem.msu.edu\n
LOCATION:Kellogg Hotel &amp; Conference Center
END:VEVENT
END:VCALENDAR
