BEGIN:VCALENDAR
VERSION:2.0
METHOD:PUBLISH
PRODID:-//Virginia Tech//VT Calendar//EN
BEGIN:VEVENT
DTSTAMP:20150118T220000Z
UID:1410450033957@events.msu.edu
CATEGORIES:Performing Arts (Dance, Music, Theatre,  ...)
DTSTART:20150118T220000Z
DTEND:20150119T045900Z
SUMMARY:Jazz: Spirituals, Prayer and Protest Concert
DESCRIPTION:
 Martin Luther King, Jr. commemorative concert, 
 featuring Jazz Orchestras and Take 6 a capella 
 gospel sextet.\n
 <b>TWO PERFORMANCES: 5:00 
 p.m. and 8:00 p.m.</b>\n
 \n
 FREE (but ticket is 
 required) Reserved seating; tickets available 
 beginning 1/12/15\n
 \n
 NOTE: 5:00 p.m. and 8:00 
 p.m. CONCERTS ARE FULL. A limited number of 
 tickets may be available at the door.\n\n
 Price: free\n
 Sponsor: College of Music\n
 Sponsor's Homepage: http://www.music.msu.edu\n
 Contact email: musicpr@msu.edu\n
 for more info visit the web at:\n 
 http://music.msu.edu/event-listing/jazz-spirituals-prayer-and-protest-concert-with-take-6\n
LOCATION:Fairchild Theatre, MSU Auditorium
END:VEVENT
END:VCALENDAR
